BEGIN:VCALENDAR
VERSION:2.0
PRODID:-//Black Mountain Ranch Campground - ECPv6.10.3//NONSGML v1.0//EN
CALSCALE:GREGORIAN
METHOD:PUBLISH
X-WR-CALNAME:Black Mountain Ranch Campground
X-ORIGINAL-URL:https://blackmountainranch.us
X-WR-CALDESC:Events for Black Mountain Ranch Campground
REFRESH-INTERVAL;VALUE=DURATION:PT1H
X-Robots-Tag:noindex
X-PUBLISHED-TTL:PT1H
BEGIN:VTIMEZONE
TZID:America/Vancouver
BEGIN:DAYLIGHT
TZOFFSETFROM:-0800
TZOFFSETTO:-0700
TZNAME:PDT
DTSTART:20250309T100000
END:DAYLIGHT
BEGIN:STANDARD
TZOFFSETFROM:-0700
TZOFFSETTO:-0800
TZNAME:PST
DTSTART:20251102T090000
END:STANDARD
END:VTIMEZONE
BEGIN:VEVENT
DTSTART;TZID=America/Vancouver:20251225T080000
DTEND;TZID=America/Vancouver:20251225T170000
DTSTAMP:20260423T095115
CREATED:20250405T232535Z
LAST-MODIFIED:20250405T232535Z
UID:13640-1766649600-1766682000@blackmountainranch.us
SUMMARY:Electrical Meter Reads
DESCRIPTION:
URL:https://blackmountainranch.us/event/electrical-meter-reads-5/
LOCATION:WA
END:VEVENT
END:VCALENDAR