BEGIN:VCALENDAR
VERSION:2.0
PRODID:-//Black Mountain Ranch Campground - ECPv6.10.3//NONSGML v1.0//EN
CALSCALE:GREGORIAN
METHOD:PUBLISH
X-ORIGINAL-URL:https://blackmountainranch.us
X-WR-CALDESC:Events for Black Mountain Ranch Campground
REFRESH-INTERVAL;VALUE=DURATION:PT1H
X-Robots-Tag:noindex
X-PUBLISHED-TTL:PT1H
BEGIN:VTIMEZONE
TZID:America/Vancouver
BEGIN:DAYLIGHT
TZOFFSETFROM:-0800
TZOFFSETTO:-0700
TZNAME:PDT
DTSTART:20250309T100000
END:DAYLIGHT
BEGIN:STANDARD
TZOFFSETFROM:-0700
TZOFFSETTO:-0800
TZNAME:PST
DTSTART:20251102T090000
END:STANDARD
END:VTIMEZONE
BEGIN:VEVENT
DTSTART;TZID=America/Vancouver:20250719T100000
DTEND;TZID=America/Vancouver:20250719T130000
DTSTAMP:20260419T114954
CREATED:20250711T170902Z
LAST-MODIFIED:20250711T170902Z
UID:14385-1752919200-1752930000@blackmountainranch.us
SUMMARY:Dream Catcher Making
DESCRIPTION:Dream catcher making \n10:00 AM – 1:00PM \nIn the craft room
URL:https://blackmountainranch.us/event/dream-catcher-making/
CATEGORIES:Arts & Crafts
END:VEVENT
END:VCALENDAR