BEGIN:VCALENDAR
VERSION:2.0
PRODID:-//Black Mountain Ranch Campground - ECPv6.10.3//NONSGML v1.0//EN
CALSCALE:GREGORIAN
METHOD:PUBLISH
X-WR-CALNAME:Black Mountain Ranch Campground
X-ORIGINAL-URL:https://blackmountainranch.us
X-WR-CALDESC:Events for Black Mountain Ranch Campground
REFRESH-INTERVAL;VALUE=DURATION:PT1H
X-Robots-Tag:noindex
X-PUBLISHED-TTL:PT1H
BEGIN:VTIMEZONE
TZID:America/Vancouver
BEGIN:DAYLIGHT
TZOFFSETFROM:-0800
TZOFFSETTO:-0700
TZNAME:PDT
DTSTART:20250309T100000
END:DAYLIGHT
BEGIN:STANDARD
TZOFFSETFROM:-0700
TZOFFSETTO:-0800
TZNAME:PST
DTSTART:20251102T090000
END:STANDARD
END:VTIMEZONE
BEGIN:VEVENT
DTSTART;TZID=America/Vancouver:20250816T190000
DTEND;TZID=America/Vancouver:20250816T210000
DTSTAMP:20260419T120346
CREATED:20250724T235430Z
LAST-MODIFIED:20250808T000441Z
UID:14438-1755370800-1755378000@blackmountainranch.us
SUMMARY:Cricut Adult Craft
DESCRIPTION:Cricut adult craft in the craft room. \n7:00PM – 9:00PM
URL:https://blackmountainranch.us/event/cricut-adult-craft/
CATEGORIES:Arts & Crafts
ATTACH;FMTTYPE=image/jpeg:https://blackmountainranch.us/wp-content/uploads/2025/07/Cricut-Event-Flyer.jpg
END:VEVENT
END:VCALENDAR