BEGIN:VCALENDAR
VERSION:2.0
PRODID:-//Black Mountain Ranch Campground - ECPv6.10.3//NONSGML v1.0//EN
CALSCALE:GREGORIAN
METHOD:PUBLISH
X-WR-CALNAME:Black Mountain Ranch Campground
X-ORIGINAL-URL:https://blackmountainranch.us
X-WR-CALDESC:Events for Black Mountain Ranch Campground
REFRESH-INTERVAL;VALUE=DURATION:PT1H
X-Robots-Tag:noindex
X-PUBLISHED-TTL:PT1H
BEGIN:VTIMEZONE
TZID:America/Vancouver
BEGIN:DAYLIGHT
TZOFFSETFROM:-0800
TZOFFSETTO:-0700
TZNAME:PDT
DTSTART:20230312T100000
END:DAYLIGHT
BEGIN:STANDARD
TZOFFSETFROM:-0700
TZOFFSETTO:-0800
TZNAME:PST
DTSTART:20231105T090000
END:STANDARD
BEGIN:DAYLIGHT
TZOFFSETFROM:-0800
TZOFFSETTO:-0700
TZNAME:PDT
DTSTART:20240310T100000
END:DAYLIGHT
BEGIN:STANDARD
TZOFFSETFROM:-0700
TZOFFSETTO:-0800
TZNAME:PST
DTSTART:20241103T090000
END:STANDARD
BEGIN:DAYLIGHT
TZOFFSETFROM:-0800
TZOFFSETTO:-0700
TZNAME:PDT
DTSTART:20250309T100000
END:DAYLIGHT
BEGIN:STANDARD
TZOFFSETFROM:-0700
TZOFFSETTO:-0800
TZNAME:PST
DTSTART:20251102T090000
END:STANDARD
BEGIN:DAYLIGHT
TZOFFSETFROM:-0800
TZOFFSETTO:-0700
TZNAME:PDT
DTSTART:20260308T100000
END:DAYLIGHT
BEGIN:STANDARD
TZOFFSETFROM:-0700
TZOFFSETTO:-0800
TZNAME:PST
DTSTART:20261101T090000
END:STANDARD
END:VTIMEZONE
BEGIN:VEVENT
DTSTART;TZID=America/Vancouver:20260404T143000
DTEND;TZID=America/Vancouver:20260404T150000
DTSTAMP:20260419T111255
CREATED:20260331T202626Z
LAST-MODIFIED:20260331T202654Z
UID:15176-1775313000-1775314800@blackmountainranch.us
SUMMARY:Derby Car Auction
DESCRIPTION:Come bid on a derby car. Saturday April 4\, 2026 at 2:30pm outside the Rec Center \n  \nWhen : 2:30 PM – 3:00PM \nWhere : Outside rec center
URL:https://blackmountainranch.us/event/derby-car-auction-3/
LOCATION:Rec Center\, 6417 Mt. Baker Hwy\, Deming\, WA\, 98244\, United States
CATEGORIES:Gala
END:VEVENT
BEGIN:VEVENT
DTSTART;TZID=America/Vancouver:20251025T123000
DTEND;TZID=America/Vancouver:20251025T133000
DTSTAMP:20260419T111255
CREATED:20251008T233837Z
LAST-MODIFIED:20251008T233837Z
UID:14768-1761395400-1761399000@blackmountainranch.us
SUMMARY:Gala Committee AGM
DESCRIPTION:Gala committee AGM \nIn the Cookshack \n12:30 PM – 1:30 PM \n 
URL:https://blackmountainranch.us/event/gala-committee-agm/
LOCATION:Cookshack\, 6417 Mt. Baker Hwy\, Deming\, WA\, 98244\, United States
CATEGORIES:Gala
END:VEVENT
BEGIN:VEVENT
DTSTART;TZID=America/Vancouver:20250712T100000
DTEND;TZID=America/Vancouver:20250712T180000
DTSTAMP:20260419T111255
CREATED:20250405T234835Z
LAST-MODIFIED:20250703T221235Z
UID:13631-1752314400-1752343200@blackmountainranch.us
SUMMARY:Concessions
DESCRIPTION:Saturday\, July 12th \nConcessions \n10:00am – 6:00pm \nField
URL:https://blackmountainranch.us/event/concessions-bbq/
CATEGORIES:Gala
END:VEVENT
BEGIN:VEVENT
DTSTART;VALUE=DATE:20230901
DTEND;VALUE=DATE:20230904
DTSTAMP:20260419T111255
CREATED:20180901T185959Z
LAST-MODIFIED:20230808T211341Z
UID:2207-1693526400-1693785599@blackmountainranch.us
SUMMARY:Gala Weekend 2023
DESCRIPTION:  \n \nOpen this event for a full schedule \nFor more information\, contact Hyla and Virg
URL:https://blackmountainranch.us/event/gala-2018/
CATEGORIES:Gala
ATTACH;FMTTYPE=image/jpeg:https://blackmountainranch.us/wp-content/uploads/2018/09/IMG_7509-scaled.jpeg
END:VEVENT
BEGIN:VEVENT
DTSTART;VALUE=DATE:20230805
DTEND;VALUE=DATE:20230806
DTSTAMP:20260419T111255
CREATED:20190320T192101Z
LAST-MODIFIED:20230417T203455Z
UID:2537-1691193600-1691279999@blackmountainranch.us
SUMMARY:Concert in the Park
DESCRIPTION:Concert in the park weekend\nTime TBD\nFor more information contact Hyla and Virg
URL:https://blackmountainranch.us/event/concert-in-the-park-2/
LOCATION:Ball Field
CATEGORIES:Gala
END:VEVENT
BEGIN:VEVENT
DTSTART;TZID=America/Vancouver:20230729T080000
DTEND;TZID=America/Vancouver:20230729T170000
DTSTAMP:20260419T111255
CREATED:20230420T170916Z
LAST-MODIFIED:20230420T170939Z
UID:8831-1690617600-1690650000@blackmountainranch.us
SUMMARY:Derby Car Race
DESCRIPTION:Down hill race \nTime and more details TBA\nFor more information contact Hyla and Virg
URL:https://blackmountainranch.us/event/derby-car-race/
CATEGORIES:Gala
END:VEVENT
BEGIN:VEVENT
DTSTART;TZID=America/Vancouver:20230701T120000
DTEND;TZID=America/Vancouver:20230701T235900
DTSTAMP:20260419T111255
CREATED:20230107T224029Z
LAST-MODIFIED:20230420T164909Z
UID:7843-1688212800-1688255940@blackmountainranch.us
SUMMARY:Derby Car Auction
DESCRIPTION:More details TBA
URL:https://blackmountainranch.us/event/derby-car-auction/
LOCATION:Ball Field
CATEGORIES:Gala
END:VEVENT
BEGIN:VEVENT
DTSTART;TZID=America/Vancouver:20230701T090000
DTEND;TZID=America/Vancouver:20230701T110000
DTSTAMP:20260419T111255
CREATED:20230420T164525Z
LAST-MODIFIED:20230420T164525Z
UID:8807-1688202000-1688209200@blackmountainranch.us
SUMMARY:Pancake Breakfast
DESCRIPTION:Join us for a pancake breakfast put on by Gala!\nFor more information Contact Hyla and Virg
URL:https://blackmountainranch.us/event/pancake-breakfast/
LOCATION:Rec Center\, 6417 Mt. Baker Hwy\, Deming\, WA\, 98244\, United States
CATEGORIES:Gala
END:VEVENT
END:VCALENDAR