BEGIN:VCALENDAR
VERSION:2.0
PRODID:-//Black Mountain Ranch Campground - ECPv6.10.3//NONSGML v1.0//EN
CALSCALE:GREGORIAN
METHOD:PUBLISH
X-ORIGINAL-URL:https://blackmountainranch.us
X-WR-CALDESC:Events for Black Mountain Ranch Campground
REFRESH-INTERVAL;VALUE=DURATION:PT1H
X-Robots-Tag:noindex
X-PUBLISHED-TTL:PT1H
BEGIN:VTIMEZONE
TZID:America/Vancouver
BEGIN:DAYLIGHT
TZOFFSETFROM:-0800
TZOFFSETTO:-0700
TZNAME:PDT
DTSTART:20260308T100000
END:DAYLIGHT
BEGIN:STANDARD
TZOFFSETFROM:-0700
TZOFFSETTO:-0800
TZNAME:PST
DTSTART:20261101T090000
END:STANDARD
END:VTIMEZONE
BEGIN:VEVENT
DTSTART;TZID=America/Vancouver:20260620T090000
DTEND;TZID=America/Vancouver:20260620T160000
DTSTAMP:20260421T081228
CREATED:20260205T233137Z
LAST-MODIFIED:20260402T173101Z
UID:14986-1781946000-1781971200@blackmountainranch.us
SUMMARY:Scotch Double Tournament
DESCRIPTION:Golf Committee Scotch Double Tournament \nWhen : 9:00AM – 4:00PM \nWhere: Golf Course
URL:https://blackmountainranch.us/event/scotch-double-tournament/
LOCATION:Golf Course\, 6417 Mt. Baker Hwy\, Deming\, WA\, 98244\, United States
CATEGORIES:Golf
END:VEVENT
END:VCALENDAR