BEGIN:VCALENDAR
VERSION:2.0
PRODID:-//Black Mountain Ranch Campground - ECPv6.10.3//NONSGML v1.0//EN
CALSCALE:GREGORIAN
METHOD:PUBLISH
X-ORIGINAL-URL:https://blackmountainranch.us
X-WR-CALDESC:Events for Black Mountain Ranch Campground
REFRESH-INTERVAL;VALUE=DURATION:PT1H
X-Robots-Tag:noindex
X-PUBLISHED-TTL:PT1H
BEGIN:VTIMEZONE
TZID:America/Vancouver
BEGIN:DAYLIGHT
TZOFFSETFROM:-0800
TZOFFSETTO:-0700
TZNAME:PDT
DTSTART:20220313T100000
END:DAYLIGHT
BEGIN:STANDARD
TZOFFSETFROM:-0700
TZOFFSETTO:-0800
TZNAME:PST
DTSTART:20221106T090000
END:STANDARD
BEGIN:DAYLIGHT
TZOFFSETFROM:-0800
TZOFFSETTO:-0700
TZNAME:PDT
DTSTART:20230312T100000
END:DAYLIGHT
BEGIN:STANDARD
TZOFFSETFROM:-0700
TZOFFSETTO:-0800
TZNAME:PST
DTSTART:20231105T090000
END:STANDARD
BEGIN:DAYLIGHT
TZOFFSETFROM:-0800
TZOFFSETTO:-0700
TZNAME:PDT
DTSTART:20240310T100000
END:DAYLIGHT
BEGIN:STANDARD
TZOFFSETFROM:-0700
TZOFFSETTO:-0800
TZNAME:PST
DTSTART:20241103T090000
END:STANDARD
BEGIN:DAYLIGHT
TZOFFSETFROM:-0800
TZOFFSETTO:-0700
TZNAME:PDT
DTSTART:20250309T100000
END:DAYLIGHT
BEGIN:STANDARD
TZOFFSETFROM:-0700
TZOFFSETTO:-0800
TZNAME:PST
DTSTART:20251102T090000
END:STANDARD
END:VTIMEZONE
BEGIN:VEVENT
DTSTART;TZID=America/Vancouver:20251025T100000
DTEND;TZID=America/Vancouver:20251025T123000
DTSTAMP:20260423T220102
CREATED:20251008T233617Z
LAST-MODIFIED:20251008T233617Z
UID:14766-1761386400-1761395400@blackmountainranch.us
SUMMARY:Golf Committee AGM
DESCRIPTION:Gold committee AGM \nIn the Cookshack \n10:00 AM -12:30 PM
URL:https://blackmountainranch.us/event/golf-committee-agm/
LOCATION:Cookshack\, 6417 Mt. Baker Hwy\, Deming\, WA\, 98244\, United States
CATEGORIES:Golf
END:VEVENT
BEGIN:VEVENT
DTSTART;TZID=America/Vancouver:20250614T090000
DTEND;TZID=America/Vancouver:20250614T130000
DTSTAMP:20260423T220102
CREATED:20250405T212102Z
LAST-MODIFIED:20250405T212103Z
UID:13607-1749891600-1749906000@blackmountainranch.us
SUMMARY:Scotch Doubles
DESCRIPTION:Golf course \n9AM-1PM
URL:https://blackmountainranch.us/event/scotch-doubles-2/
LOCATION:Golf Course\, 6417 Mt. Baker Hwy\, Deming\, WA\, 98244\, United States
CATEGORIES:Golf
END:VEVENT
BEGIN:VEVENT
DTSTART;TZID=America/Vancouver:20230909T080000
DTEND;TZID=America/Vancouver:20230909T170000
DTSTAMP:20260423T220102
CREATED:20230417T195323Z
LAST-MODIFIED:20230417T195323Z
UID:8725-1694246400-1694278800@blackmountainranch.us
SUMMARY:Women's Tournament
DESCRIPTION:Time TBD
URL:https://blackmountainranch.us/event/womens-tournament-2/
LOCATION:Golf Course\, 6417 Mt. Baker Hwy\, Deming\, WA\, 98244\, United States
CATEGORIES:Golf
END:VEVENT
BEGIN:VEVENT
DTSTART;TZID=America/Vancouver:20230819T080000
DTEND;TZID=America/Vancouver:20230819T170000
DTSTAMP:20260423T220102
CREATED:20230417T202201Z
LAST-MODIFIED:20230417T202201Z
UID:8744-1692432000-1692464400@blackmountainranch.us
SUMMARY:BMR Classic
DESCRIPTION:Time TBD
URL:https://blackmountainranch.us/event/bmr-classic-2/
LOCATION:Golf Course\, 6417 Mt. Baker Hwy\, Deming\, WA\, 98244\, United States
CATEGORIES:Golf
END:VEVENT
BEGIN:VEVENT
DTSTART;VALUE=DATE:20230715
DTEND;VALUE=DATE:20230716
DTSTAMP:20260423T220102
CREATED:20160408T183229Z
LAST-MODIFIED:20230107T222725Z
UID:1244-1689379200-1689465599@blackmountainranch.us
SUMMARY:Texas Scramble Golf Tournament
DESCRIPTION:Texas Scramble Golf Tournament \nTime TBA
URL:https://blackmountainranch.us/event/texas-scramble-golf-tournament/
LOCATION:Golf Course\, 6417 Mt. Baker Hwy\, Deming\, WA\, 98244\, United States
CATEGORIES:Golf
END:VEVENT
BEGIN:VEVENT
DTSTART;TZID=America/Vancouver:20230420T080000
DTEND;TZID=America/Vancouver:20230420T170000
DTSTAMP:20260423T220102
CREATED:20230420T165645Z
LAST-MODIFIED:20230420T165645Z
UID:8823-1681977600-1682010000@blackmountainranch.us
SUMMARY:Texas Doubles
DESCRIPTION:Time and more details TBA
URL:https://blackmountainranch.us/event/texas-doubles/
LOCATION:Golf Course\, 6417 Mt. Baker Hwy\, Deming\, WA\, 98244\, United States
CATEGORIES:Golf
END:VEVENT
BEGIN:VEVENT
DTSTART;TZID=America/Vancouver:20220910T080000
DTEND;TZID=America/Vancouver:20220910T170000
DTSTAMP:20260423T220102
CREATED:20220329T235152Z
LAST-MODIFIED:20220329T235152Z
UID:5835-1662796800-1662829200@blackmountainranch.us
SUMMARY:Women's Tournament
DESCRIPTION:
URL:https://blackmountainranch.us/event/womens-tournament/
LOCATION:WA
CATEGORIES:Golf
END:VEVENT
BEGIN:VEVENT
DTSTART;TZID=America/Vancouver:20220820T090000
DTEND;TZID=America/Vancouver:20220820T130000
DTSTAMP:20260423T220102
CREATED:20180329T180913Z
LAST-MODIFIED:20220329T235022Z
UID:2097-1660986000-1661000400@blackmountainranch.us
SUMMARY:BMR Classic
DESCRIPTION:
URL:https://blackmountainranch.us/event/bmr-classic/
LOCATION:Golf Course\, 6417 Mt. Baker Hwy\, Deming\, WA\, 98244\, United States
CATEGORIES:Golf
END:VEVENT
END:VCALENDAR