BEGIN:VCALENDAR
VERSION:2.0
PRODID:-//Black Mountain Ranch Campground - ECPv6.10.3//NONSGML v1.0//EN
CALSCALE:GREGORIAN
METHOD:PUBLISH
X-WR-CALNAME:Black Mountain Ranch Campground
X-ORIGINAL-URL:https://blackmountainranch.us
X-WR-CALDESC:Events for Black Mountain Ranch Campground
REFRESH-INTERVAL;VALUE=DURATION:PT1H
X-Robots-Tag:noindex
X-PUBLISHED-TTL:PT1H
BEGIN:VTIMEZONE
TZID:America/Vancouver
BEGIN:DAYLIGHT
TZOFFSETFROM:-0800
TZOFFSETTO:-0700
TZNAME:PDT
DTSTART:20250309T100000
END:DAYLIGHT
BEGIN:STANDARD
TZOFFSETFROM:-0700
TZOFFSETTO:-0800
TZNAME:PST
DTSTART:20251102T090000
END:STANDARD
END:VTIMEZONE
BEGIN:VEVENT
DTSTART;TZID=America/Vancouver:20251011T150000
DTEND;TZID=America/Vancouver:20251011T160000
DTSTAMP:20260422T033204
CREATED:20251008T232601Z
LAST-MODIFIED:20251008T232601Z
UID:14764-1760194800-1760198400@blackmountainranch.us
SUMMARY:Riding Club AGM
DESCRIPTION:Riding Club AGM \n3:00 PM – 4:00 PM \nIn the library
URL:https://blackmountainranch.us/event/riding-club-agm-2/
LOCATION:Library
CATEGORIES:Riding Club
ORGANIZER;CN="Riding Club":MAILTO:bmr.ridingclub@gmail.com
END:VEVENT
END:VCALENDAR