BEGIN:VCALENDAR
VERSION:2.0
PRODID:-//Black Mountain Ranch Campground - ECPv6.10.3//NONSGML v1.0//EN
CALSCALE:GREGORIAN
METHOD:PUBLISH
X-ORIGINAL-URL:https://blackmountainranch.us
X-WR-CALDESC:Events for Black Mountain Ranch Campground
REFRESH-INTERVAL;VALUE=DURATION:PT1H
X-Robots-Tag:noindex
X-PUBLISHED-TTL:PT1H
BEGIN:VTIMEZONE
TZID:America/Vancouver
BEGIN:DAYLIGHT
TZOFFSETFROM:-0800
TZOFFSETTO:-0700
TZNAME:PDT
DTSTART:20260308T100000
END:DAYLIGHT
BEGIN:STANDARD
TZOFFSETFROM:-0700
TZOFFSETTO:-0800
TZNAME:PST
DTSTART:20261101T090000
END:STANDARD
END:VTIMEZONE
BEGIN:VEVENT
DTSTART;TZID=America/Vancouver:20260531T080000
DTEND;TZID=America/Vancouver:20260531T150000
DTSTAMP:20260421T021233
CREATED:20260331T235123Z
LAST-MODIFIED:20260331T235123Z
UID:15199-1780214400-1780239600@blackmountainranch.us
SUMMARY:Western Equitation
DESCRIPTION:Where : Barn & Arena \nWhen : 8am – Participants \n9am – Spectators
URL:https://blackmountainranch.us/event/western-equitation-3/
LOCATION:Horse Arena
CATEGORIES:Riding Club
ORGANIZER;CN="Riding Club":MAILTO:bmr.ridingclub@gmail.com
END:VEVENT
BEGIN:VEVENT
DTSTART;TZID=America/Vancouver:20260531T110000
DTEND;TZID=America/Vancouver:20260531T150000
DTSTAMP:20260421T021233
CREATED:20260331T235308Z
LAST-MODIFIED:20260331T235308Z
UID:15201-1780225200-1780239600@blackmountainranch.us
SUMMARY:BBQ
DESCRIPTION:Where : Arena \nWhen : 11am
URL:https://blackmountainranch.us/event/bbq/
LOCATION:Horse Arena
CATEGORIES:Riding Club
ORGANIZER;CN="Riding Club":MAILTO:bmr.ridingclub@gmail.com
END:VEVENT
END:VCALENDAR