BEGIN:VCALENDAR
VERSION:2.0
PRODID:-//Black Mountain Ranch Campground - ECPv6.10.3//NONSGML v1.0//EN
CALSCALE:GREGORIAN
METHOD:PUBLISH
X-WR-CALNAME:Black Mountain Ranch Campground
X-ORIGINAL-URL:https://blackmountainranch.us
X-WR-CALDESC:Events for Black Mountain Ranch Campground
REFRESH-INTERVAL;VALUE=DURATION:PT1H
X-Robots-Tag:noindex
X-PUBLISHED-TTL:PT1H
BEGIN:VTIMEZONE
TZID:America/Vancouver
BEGIN:DAYLIGHT
TZOFFSETFROM:-0800
TZOFFSETTO:-0700
TZNAME:PDT
DTSTART:20260308T100000
END:DAYLIGHT
BEGIN:STANDARD
TZOFFSETFROM:-0700
TZOFFSETTO:-0800
TZNAME:PST
DTSTART:20261101T090000
END:STANDARD
END:VTIMEZONE
BEGIN:VEVENT
DTSTART;TZID=America/Vancouver:20260731T190000
DTEND;TZID=America/Vancouver:20260731T210000
DTSTAMP:20260421T145459
CREATED:20260406T191525Z
LAST-MODIFIED:20260406T191750Z
UID:15255-1785524400-1785531600@blackmountainranch.us
SUMMARY:Playday - Team Building
DESCRIPTION:When: 7 pm \nWhere: Cookshack/Teen Room/Library
URL:https://blackmountainranch.us/event/playday-team-building-3/
CATEGORIES:Riding Club,Youth/Teen
ORGANIZER;CN="Riding Club":MAILTO:bmr.ridingclub@gmail.com
END:VEVENT
BEGIN:VEVENT
DTSTART;TZID=America/Vancouver:20260731T190000
DTEND;TZID=America/Vancouver:20260731T210000
DTSTAMP:20260421T145459
CREATED:20260406T191724Z
LAST-MODIFIED:20260406T191724Z
UID:15257-1785524400-1785531600@blackmountainranch.us
SUMMARY:Playday - Parent Meeting
DESCRIPTION:When: 7 pm \nWhere: Playground area
URL:https://blackmountainranch.us/event/playday-parent-meeting-3/
LOCATION:Playground
CATEGORIES:Riding Club
ORGANIZER;CN="Riding Club":MAILTO:bmr.ridingclub@gmail.com
END:VEVENT
END:VCALENDAR