BEGIN:VCALENDAR
VERSION:2.0
PRODID:-//Black Mountain Ranch Campground - ECPv6.10.3//NONSGML v1.0//EN
CALSCALE:GREGORIAN
METHOD:PUBLISH
X-ORIGINAL-URL:https://blackmountainranch.us
X-WR-CALDESC:Events for Black Mountain Ranch Campground
REFRESH-INTERVAL;VALUE=DURATION:PT1H
X-Robots-Tag:noindex
X-PUBLISHED-TTL:PT1H
BEGIN:VTIMEZONE
TZID:America/Vancouver
BEGIN:DAYLIGHT
TZOFFSETFROM:-0800
TZOFFSETTO:-0700
TZNAME:PDT
DTSTART:20260308T100000
END:DAYLIGHT
BEGIN:STANDARD
TZOFFSETFROM:-0700
TZOFFSETTO:-0800
TZNAME:PST
DTSTART:20261101T090000
END:STANDARD
END:VTIMEZONE
BEGIN:VEVENT
DTSTART;TZID=America/Vancouver:20260802T080000
DTEND;TZID=America/Vancouver:20260802T170000
DTSTAMP:20260421T183618
CREATED:20260406T193438Z
LAST-MODIFIED:20260406T193438Z
UID:15268-1785657600-1785690000@blackmountainranch.us
SUMMARY:Playday - Day 2
DESCRIPTION:When: 8 am participants\, 9 am spectators \nWhere: Barn/Arena
URL:https://blackmountainranch.us/event/playday-day-2-3/
LOCATION:Horse Arena
CATEGORIES:Riding Club
ORGANIZER;CN="Riding Club":MAILTO:bmr.ridingclub@gmail.com
END:VEVENT
BEGIN:VEVENT
DTSTART;TZID=America/Vancouver:20260802T190000
DTEND;TZID=America/Vancouver:20260802T233000
DTSTAMP:20260421T183618
CREATED:20260406T193957Z
LAST-MODIFIED:20260406T194133Z
UID:15270-1785697200-1785713400@blackmountainranch.us
SUMMARY:Awards then Dance
DESCRIPTION:When: 7 pm \nWhere: Barn Area/Rec Centre if raining
URL:https://blackmountainranch.us/event/awards/
CATEGORIES:Riding Club
ORGANIZER;CN="Riding Club":MAILTO:bmr.ridingclub@gmail.com
END:VEVENT
END:VCALENDAR