BEGIN:VCALENDAR
VERSION:2.0
PRODID:-//Black Mountain Ranch Campground - ECPv6.10.3//NONSGML v1.0//EN
CALSCALE:GREGORIAN
METHOD:PUBLISH
X-ORIGINAL-URL:https://blackmountainranch.us
X-WR-CALDESC:Events for Black Mountain Ranch Campground
REFRESH-INTERVAL;VALUE=DURATION:PT1H
X-Robots-Tag:noindex
X-PUBLISHED-TTL:PT1H
BEGIN:VTIMEZONE
TZID:America/Vancouver
BEGIN:DAYLIGHT
TZOFFSETFROM:-0800
TZOFFSETTO:-0700
TZNAME:PDT
DTSTART:20260308T100000
END:DAYLIGHT
BEGIN:STANDARD
TZOFFSETFROM:-0700
TZOFFSETTO:-0800
TZNAME:PST
DTSTART:20261101T090000
END:STANDARD
END:VTIMEZONE
BEGIN:VEVENT
DTSTART;TZID=America/Vancouver:20260704T170000
DTEND;TZID=America/Vancouver:20260704T200000
DTSTAMP:20260422T082955
CREATED:20260402T193542Z
LAST-MODIFIED:20260402T193542Z
UID:15227-1783184400-1783195200@blackmountainranch.us
SUMMARY:Golf Cart & Bike Show And Shine BBQ
DESCRIPTION:Where : Youth Shack – Field \nWhen : 5:00pm -8:00pm
URL:https://blackmountainranch.us/event/golf-cart-bike-show-and-shine-bbq/
LOCATION:Youth Shack
CATEGORIES:Youth/Teen
END:VEVENT
BEGIN:VEVENT
DTSTART;TZID=America/Vancouver:20260704T190000
DTEND;TZID=America/Vancouver:20260704T200000
DTSTAMP:20260422T082955
CREATED:20260402T193943Z
LAST-MODIFIED:20260402T193943Z
UID:15229-1783191600-1783195200@blackmountainranch.us
SUMMARY:Ice Cream Social
DESCRIPTION:When : 7:00pm – 8:00pm \nWhere : Youth Shack – Field
URL:https://blackmountainranch.us/event/ice-cream-social-11/
LOCATION:Youth Shack
CATEGORIES:Youth/Teen
END:VEVENT
BEGIN:VEVENT
DTSTART;TZID=America/Vancouver:20260711T140000
DTEND;TZID=America/Vancouver:20260711T160000
DTSTAMP:20260422T082955
CREATED:20260402T195445Z
LAST-MODIFIED:20260402T195445Z
UID:15235-1783778400-1783785600@blackmountainranch.us
SUMMARY:Sports Day
DESCRIPTION:When : 2:00pm – 4:00pm \nWhere : Field
URL:https://blackmountainranch.us/event/sports-day-2/
LOCATION:WA
CATEGORIES:Gala,Youth/Teen
END:VEVENT
BEGIN:VEVENT
DTSTART;TZID=America/Vancouver:20260711T190000
DTEND;TZID=America/Vancouver:20260711T200000
DTSTAMP:20260422T082955
CREATED:20260406T185557Z
LAST-MODIFIED:20260406T185558Z
UID:15241-1783796400-1783800000@blackmountainranch.us
SUMMARY:Ice Cream Social
DESCRIPTION:When: 7-8 pm \nWhere: Youth Shack \n 
URL:https://blackmountainranch.us/event/ice-cream-social-12/
LOCATION:WA
CATEGORIES:Youth/Teen
END:VEVENT
BEGIN:VEVENT
DTSTART;TZID=America/Vancouver:20260718T150000
DTEND;TZID=America/Vancouver:20260718T200000
DTSTAMP:20260422T082955
CREATED:20260406T190114Z
LAST-MODIFIED:20260406T204344Z
UID:15245-1784386800-1784404800@blackmountainranch.us
SUMMARY:Amazing Race
DESCRIPTION:When: 3-8 pm \nWhere: Youth Shack
URL:https://blackmountainranch.us/event/amazing-race-3/
LOCATION:Youth Shack
CATEGORIES:Youth/Teen
END:VEVENT
BEGIN:VEVENT
DTSTART;TZID=America/Vancouver:20260718T190000
DTEND;TZID=America/Vancouver:20260718T200000
DTSTAMP:20260422T082955
CREATED:20260406T190839Z
LAST-MODIFIED:20260406T204425Z
UID:15249-1784401200-1784404800@blackmountainranch.us
SUMMARY:Ice Cream Social
DESCRIPTION:When: 7-8 pm \nWhere: Youth Shack
URL:https://blackmountainranch.us/event/ice-cream-social-13/
LOCATION:Youth Shack
CATEGORIES:Youth/Teen
END:VEVENT
BEGIN:VEVENT
DTSTART;TZID=America/Vancouver:20260725T190000
DTEND;TZID=America/Vancouver:20260725T200000
DTSTAMP:20260422T082955
CREATED:20260406T191016Z
LAST-MODIFIED:20260406T204442Z
UID:15251-1785006000-1785009600@blackmountainranch.us
SUMMARY:Ice Cream Social
DESCRIPTION:When: 7-8 pm \nWhere: Youth Shack
URL:https://blackmountainranch.us/event/ice-cream-social-14/
LOCATION:Youth Shack
CATEGORIES:Youth/Teen
END:VEVENT
BEGIN:VEVENT
DTSTART;TZID=America/Vancouver:20260731T190000
DTEND;TZID=America/Vancouver:20260731T210000
DTSTAMP:20260422T082955
CREATED:20260406T191525Z
LAST-MODIFIED:20260406T191750Z
UID:15255-1785524400-1785531600@blackmountainranch.us
SUMMARY:Playday - Team Building
DESCRIPTION:When: 7 pm \nWhere: Cookshack/Teen Room/Library
URL:https://blackmountainranch.us/event/playday-team-building-3/
LOCATION:WA
CATEGORIES:Riding Club,Youth/Teen
ORGANIZER;CN="Riding Club":MAILTO:bmr.ridingclub@gmail.com
END:VEVENT
END:VCALENDAR