BEGIN:VCALENDAR
VERSION:2.0
PRODID:-//Black Mountain Ranch Campground - ECPv6.10.3//NONSGML v1.0//EN
CALSCALE:GREGORIAN
METHOD:PUBLISH
X-ORIGINAL-URL:https://blackmountainranch.us
X-WR-CALDESC:Events for Black Mountain Ranch Campground
REFRESH-INTERVAL;VALUE=DURATION:PT1H
X-Robots-Tag:noindex
X-PUBLISHED-TTL:PT1H
BEGIN:VTIMEZONE
TZID:America/Vancouver
BEGIN:DAYLIGHT
TZOFFSETFROM:-0800
TZOFFSETTO:-0700
TZNAME:PDT
DTSTART:20220313T100000
END:DAYLIGHT
BEGIN:STANDARD
TZOFFSETFROM:-0700
TZOFFSETTO:-0800
TZNAME:PST
DTSTART:20221106T090000
END:STANDARD
BEGIN:DAYLIGHT
TZOFFSETFROM:-0800
TZOFFSETTO:-0700
TZNAME:PDT
DTSTART:20230312T100000
END:DAYLIGHT
BEGIN:STANDARD
TZOFFSETFROM:-0700
TZOFFSETTO:-0800
TZNAME:PST
DTSTART:20231105T090000
END:STANDARD
BEGIN:DAYLIGHT
TZOFFSETFROM:-0800
TZOFFSETTO:-0700
TZNAME:PDT
DTSTART:20240310T100000
END:DAYLIGHT
BEGIN:STANDARD
TZOFFSETFROM:-0700
TZOFFSETTO:-0800
TZNAME:PST
DTSTART:20241103T090000
END:STANDARD
BEGIN:DAYLIGHT
TZOFFSETFROM:-0800
TZOFFSETTO:-0700
TZNAME:PDT
DTSTART:20250309T100000
END:DAYLIGHT
BEGIN:STANDARD
TZOFFSETFROM:-0700
TZOFFSETTO:-0800
TZNAME:PST
DTSTART:20251102T090000
END:STANDARD
BEGIN:DAYLIGHT
TZOFFSETFROM:-0800
TZOFFSETTO:-0700
TZNAME:PDT
DTSTART:20260308T100000
END:DAYLIGHT
BEGIN:STANDARD
TZOFFSETFROM:-0700
TZOFFSETTO:-0800
TZNAME:PST
DTSTART:20261101T090000
END:STANDARD
END:VTIMEZONE
BEGIN:VEVENT
DTSTART;TZID=America/Vancouver:20260404T120000
DTEND;TZID=America/Vancouver:20260404T140000
DTSTAMP:20260421T152351
CREATED:20260312T200811Z
LAST-MODIFIED:20260312T200811Z
UID:15101-1775304000-1775311200@blackmountainranch.us
SUMMARY:Easter Eggstravaganza
DESCRIPTION: It’s almost time for our Easter Eggstravaganza!  \nJoin the Youth Committee on Saturday\, April 4th from 12–2 at the Gym for an afternoon full of family fun! \nWe’ll kick things off with our Easter egg hunt — and don’t worry\, every single egg is a winner! Each egg will contain either a small prize or a ticket that can be exchanged for a sweet treat or special surprise. Keep your eyes open for a few Golden Tickets hidden in the mix!  \nThe fun doesn’t stop there: \n Colouring contest prizes \n Jelly bean count \n Family bingo with prizes to be won \n BBQ with grilled hot dogs & chilli cheese dogs hot off the grill \n Photos with the Easter Bunny \nBring your baskets\, your family\, and your best Easter spirit — we can’t wait to celebrate with you! \nPlease note: Due to local wildlife\, we are unable to hide eggs containing candy or chocolate. All treats and prizes will be distributed through tickets and prizes instead. 
URL:https://blackmountainranch.us/event/easter-eggstravaganza/
LOCATION:Rec Center\, 6417 Mt. Baker Hwy\, Deming\, WA\, 98244\, United States
CATEGORIES:Youth/Teen
ATTACH;FMTTYPE=image/jpeg:https://blackmountainranch.us/wp-content/uploads/2026/03/image0-5.jpeg
END:VEVENT
BEGIN:VEVENT
DTSTART;TZID=America/Vancouver:20250419T123000
DTEND;TZID=America/Vancouver:20250419T150000
DTSTAMP:20260421T152351
CREATED:20250330T205544Z
LAST-MODIFIED:20250401T165610Z
UID:13455-1745065800-1745074800@blackmountainranch.us
SUMMARY:Youth Committee : Easter Eggstravaganza
DESCRIPTION:
URL:https://blackmountainranch.us/event/youth-committee-easter-eggstravaganza/
LOCATION:Rec Center\, 6417 Mt. Baker Hwy\, Deming\, WA\, 98244\, United States
CATEGORIES:Youth/Teen
ATTACH;FMTTYPE=image/jpeg:https://blackmountainranch.us/wp-content/uploads/2025/03/image0-_15_.jpeg
END:VEVENT
BEGIN:VEVENT
DTSTART;TZID=America/Vancouver:20231021T080000
DTEND;TZID=America/Vancouver:20231021T170000
DTSTAMP:20260421T152351
CREATED:20230417T165349Z
LAST-MODIFIED:20230417T165418Z
UID:8710-1697875200-1697907600@blackmountainranch.us
SUMMARY:Halloween Party
DESCRIPTION:Times TBD
URL:https://blackmountainranch.us/event/8710/
LOCATION:Rec Center\, 6417 Mt. Baker Hwy\, Deming\, WA\, 98244\, United States
CATEGORIES:Youth/Teen
END:VEVENT
BEGIN:VEVENT
DTSTART;TZID=America/Vancouver:20230826T190000
DTEND;TZID=America/Vancouver:20230826T200000
DTSTAMP:20260421T152351
CREATED:20230417T200427Z
LAST-MODIFIED:20230417T200427Z
UID:8730-1693076400-1693080000@blackmountainranch.us
SUMMARY:Ice Cream Night
DESCRIPTION:
URL:https://blackmountainranch.us/event/ice-cream-night-3/
LOCATION:Youth Shack
CATEGORIES:Youth/Teen
END:VEVENT
BEGIN:VEVENT
DTSTART;TZID=America/Vancouver:20230819T203000
DTEND;TZID=America/Vancouver:20230819T203000
DTSTAMP:20260421T152351
CREATED:20230807T194217Z
LAST-MODIFIED:20230807T204252Z
UID:10309-1692477000-1692477000@blackmountainranch.us
SUMMARY:Teen Glow Dance
DESCRIPTION:Teen glow dance at 8:30pm at the rec Center
URL:https://blackmountainranch.us/event/teen-glow-dance/
LOCATION:Rec Center\, 6417 Mt. Baker Hwy\, Deming\, WA\, 98244\, United States
CATEGORIES:Youth/Teen
END:VEVENT
BEGIN:VEVENT
DTSTART;TZID=America/Vancouver:20230819T190000
DTEND;TZID=America/Vancouver:20230819T200000
DTSTAMP:20260421T152351
CREATED:20230417T200603Z
LAST-MODIFIED:20230417T200603Z
UID:8733-1692471600-1692475200@blackmountainranch.us
SUMMARY:Ice Cream Night
DESCRIPTION:
URL:https://blackmountainranch.us/event/ice-cream-night-4/
LOCATION:Youth Shack
CATEGORIES:Youth/Teen
END:VEVENT
BEGIN:VEVENT
DTSTART;TZID=America/Vancouver:20230819T080000
DTEND;TZID=America/Vancouver:20230819T170000
DTSTAMP:20260421T152351
CREATED:20230417T202056Z
LAST-MODIFIED:20230807T194041Z
UID:8741-1692432000-1692464400@blackmountainranch.us
SUMMARY:Ranch Has Talent
DESCRIPTION:Time TBD\nMay be moved to Rec Center if weather turns\nContact Joan Hurley for more information \nCANCELLED due to lack of interest
URL:https://blackmountainranch.us/event/ranch-has-talent/
LOCATION:Concert Stage
CATEGORIES:Youth/Teen
END:VEVENT
BEGIN:VEVENT
DTSTART;TZID=America/Vancouver:20230812T190000
DTEND;TZID=America/Vancouver:20230812T200000
DTSTAMP:20260421T152351
CREATED:20230417T200656Z
LAST-MODIFIED:20230417T200656Z
UID:8735-1691866800-1691870400@blackmountainranch.us
SUMMARY:Ice Cream Night
DESCRIPTION:
URL:https://blackmountainranch.us/event/ice-cream-night-5/
LOCATION:Youth Shack
CATEGORIES:Youth/Teen
END:VEVENT
BEGIN:VEVENT
DTSTART;TZID=America/Vancouver:20230804T080000
DTEND;TZID=America/Vancouver:20230804T170000
DTSTAMP:20260421T152351
CREATED:20230417T203303Z
LAST-MODIFIED:20230417T203303Z
UID:8758-1691136000-1691168400@blackmountainranch.us
SUMMARY:Playday Teambuilding
DESCRIPTION:Time TBD\nFor more information contact Alana Moran
URL:https://blackmountainranch.us/event/playday-teambuilding/
LOCATION:Teen Room
CATEGORIES:Riding Club,Youth/Teen
ORGANIZER;CN="Riding Club":MAILTO:bmr.ridingclub@gmail.com
END:VEVENT
BEGIN:VEVENT
DTSTART;TZID=America/Vancouver:20230729T010000
DTEND;TZID=America/Vancouver:20230729T170000
DTSTAMP:20260421T152351
CREATED:20230107T224452Z
LAST-MODIFIED:20230627T210609Z
UID:7846-1690592400-1690650000@blackmountainranch.us
SUMMARY:Amazing Race
DESCRIPTION:Amazing Race 1-3 @ Field (weather permitting)  Field party 3-5pm (weather permitting). \nIf weather does not allow then it will be held in the Rec Center.
URL:https://blackmountainranch.us/event/amazing-race/
LOCATION:Youth Shack
CATEGORIES:Youth/Teen
ATTACH;FMTTYPE=image/jpeg:https://blackmountainranch.us/wp-content/uploads/2023/01/The_Amazing_Race_23_logo.jpg
END:VEVENT
BEGIN:VEVENT
DTSTART;TZID=America/Vancouver:20230728T190000
DTEND;TZID=America/Vancouver:20230728T200000
DTSTAMP:20260421T152351
CREATED:20230627T211506Z
LAST-MODIFIED:20230627T211506Z
UID:9827-1690570800-1690574400@blackmountainranch.us
SUMMARY:Amazing Race sign-up
DESCRIPTION:Sign up for the Amazing Race will start at 7pm.
URL:https://blackmountainranch.us/event/amazing-race-sign-up/
LOCATION:Youth Shack
CATEGORIES:Youth/Teen
END:VEVENT
BEGIN:VEVENT
DTSTART;TZID=America/Vancouver:20230722T190000
DTEND;TZID=America/Vancouver:20230722T200000
DTSTAMP:20260421T152351
CREATED:20230420T170019Z
LAST-MODIFIED:20230627T210121Z
UID:8827-1690052400-1690056000@blackmountainranch.us
SUMMARY:Ice Cream Night
DESCRIPTION:Ice cream at the Youth Shack 7-8pm
URL:https://blackmountainranch.us/event/ice-cream-night-9/
LOCATION:Youth Shack
CATEGORIES:Youth/Teen
END:VEVENT
BEGIN:VEVENT
DTSTART;TZID=America/Vancouver:20230715T190000
DTEND;TZID=America/Vancouver:20230715T200000
DTSTAMP:20260421T152351
CREATED:20230420T165808Z
LAST-MODIFIED:20230420T165808Z
UID:8825-1689447600-1689451200@blackmountainranch.us
SUMMARY:Ice Cream Night
DESCRIPTION:For more information contact Joan Hurley
URL:https://blackmountainranch.us/event/ice-cream-night-8/
LOCATION:Youth Shack
CATEGORIES:Youth/Teen
END:VEVENT
BEGIN:VEVENT
DTSTART;TZID=America/Vancouver:20230701T130000
DTEND;TZID=America/Vancouver:20230701T150000
DTSTAMP:20260421T152351
CREATED:20230627T205230Z
LAST-MODIFIED:20230627T205230Z
UID:9816-1688216400-1688223600@blackmountainranch.us
SUMMARY:Canada Day Celebration
DESCRIPTION:Canada Day celebration down at the Youth Shack & surrounding area.
URL:https://blackmountainranch.us/event/canada-day-celebration/
LOCATION:Youth Shack
CATEGORIES:Youth/Teen
ATTACH;FMTTYPE=image/webp:https://blackmountainranch.us/wp-content/uploads/2023/06/CanadaDay.webp
END:VEVENT
BEGIN:VEVENT
DTSTART;TZID=America/Vancouver:20220723T190000
DTEND;TZID=America/Vancouver:20220723T200000
DTSTAMP:20260421T152351
CREATED:20220713T212122Z
LAST-MODIFIED:20220713T212209Z
UID:6712-1658602800-1658606400@blackmountainranch.us
SUMMARY:Ice Cream Night
DESCRIPTION:July 23 @ 7:00 pm – 8:00 pm\nYouth Shack
URL:https://blackmountainranch.us/event/ice-cream-night-2/
LOCATION:WA
CATEGORIES:Youth/Teen
END:VEVENT
BEGIN:VEVENT
DTSTART;TZID=America/Vancouver:20220713T190000
DTEND;TZID=America/Vancouver:20220713T200000
DTSTAMP:20260421T152351
CREATED:20220713T211431Z
LAST-MODIFIED:20220713T211431Z
UID:6708-1657738800-1657742400@blackmountainranch.us
SUMMARY:Ice Cream Night
DESCRIPTION:July 16 @ 7:00 pm – 8:00 pm\nYouth Shack
URL:https://blackmountainranch.us/event/ice-cream-night/
LOCATION:WA
CATEGORIES:Youth/Teen
END:VEVENT
BEGIN:VEVENT
DTSTART;TZID=America/Vancouver:20220702T190000
DTEND;TZID=America/Vancouver:20220702T200000
DTSTAMP:20260421T152351
CREATED:20180329T181138Z
LAST-MODIFIED:20220623T224133Z
UID:2103-1656788400-1656792000@blackmountainranch.us
SUMMARY:Ice Cream Night
DESCRIPTION:
URL:https://blackmountainranch.us/event/ice-cream-night-7/
LOCATION:Youth Shack
CATEGORIES:Youth/Teen
END:VEVENT
END:VCALENDAR