BEGIN:VCALENDAR
VERSION:2.0
PRODID:-//Black Mountain Ranch Campground - ECPv6.10.3//NONSGML v1.0//EN
CALSCALE:GREGORIAN
METHOD:PUBLISH
X-WR-CALNAME:Black Mountain Ranch Campground
X-ORIGINAL-URL:https://blackmountainranch.us
X-WR-CALDESC:Events for Black Mountain Ranch Campground
REFRESH-INTERVAL;VALUE=DURATION:PT1H
X-Robots-Tag:noindex
X-PUBLISHED-TTL:PT1H
BEGIN:VTIMEZONE
TZID:America/Vancouver
BEGIN:DAYLIGHT
TZOFFSETFROM:-0800
TZOFFSETTO:-0700
TZNAME:PDT
DTSTART:20250309T100000
END:DAYLIGHT
BEGIN:STANDARD
TZOFFSETFROM:-0700
TZOFFSETTO:-0800
TZNAME:PST
DTSTART:20251102T090000
END:STANDARD
BEGIN:DAYLIGHT
TZOFFSETFROM:-0800
TZOFFSETTO:-0700
TZNAME:PDT
DTSTART:20260308T100000
END:DAYLIGHT
BEGIN:STANDARD
TZOFFSETFROM:-0700
TZOFFSETTO:-0800
TZNAME:PST
DTSTART:20261101T090000
END:STANDARD
END:VTIMEZONE
BEGIN:VEVENT
DTSTART;TZID=America/Vancouver:20251206T130000
DTEND;TZID=America/Vancouver:20251206T210000
DTSTAMP:20260419T091152
CREATED:20250406T170029Z
LAST-MODIFIED:20251119T022925Z
UID:13712-1765026000-1765054800@blackmountainranch.us
SUMMARY:Christmas Kids Party
DESCRIPTION: Kids Christmas Celebration at Black Mountain Ranch!  \nDecember 6th • Starting at 1:00pm • Cookshack \nGuess what time it is? Yep… Christmas magic time! The Social Committee\, Youth Committee\, and Craft Committee are joining hands (and wallets ) to bring you a FREE festive day all about celebrating our favourite littles around the ranch. \nWe’re kicking things off at 1pm in the Cookshack with crafts—and trust us\, nobody does crafts better than our Craft Committee! Grab a hot chocolate\, nibble a hot dog\, and settle in to write your letters to Santa before the big adventure begins. \nThen hop aboard for a hay ride + Christmas caroling cruise around the ranch. Reminder: Kiddos 7 and under need their “big” with them—no solo reindeer flights! \nAfter all that excitement\, everyone gets a little break to recharge\, relax\, and maybe sneak in a cookie or two. \nThen… jammies ON! At 6pm\, head over to the Rec Centre for movie night on the giant 24ft inflatable screen. Cozy\, fun\, and the perfect way to end a magical day. \nCome join the Christmas cheer—we can’t wait to see all those smiling little faces! 
URL:https://blackmountainranch.us/event/kids-christmas-event/
LOCATION:WA
ATTACH;FMTTYPE=image/jpeg:https://blackmountainranch.us/wp-content/uploads/2025/04/582112807_1935497017179654_4393169992319530185_n.jpg
END:VEVENT
BEGIN:VEVENT
DTSTART;TZID=America/Vancouver:20251225T080000
DTEND;TZID=America/Vancouver:20251225T170000
DTSTAMP:20260419T091152
CREATED:20250405T232535Z
LAST-MODIFIED:20250405T232535Z
UID:13640-1766649600-1766682000@blackmountainranch.us
SUMMARY:Electrical Meter Reads
DESCRIPTION:
URL:https://blackmountainranch.us/event/electrical-meter-reads-5/
LOCATION:WA
END:VEVENT
BEGIN:VEVENT
DTSTART;TZID=America/Vancouver:20251227T191500
DTEND;TZID=America/Vancouver:20251227T223000
DTSTAMP:20260419T091152
CREATED:20250406T165850Z
LAST-MODIFIED:20250406T165850Z
UID:13710-1766862900-1766874600@blackmountainranch.us
SUMMARY:Pool Tournament
DESCRIPTION:Saturday\, December 27th \nPool Tournament \n7:15pm-7:45 pm Sign Up \n8:00pm Game Starts \n$5 Per Game \nBecker’s Lounge
URL:https://blackmountainranch.us/event/pool-tournament-24/
LOCATION:Becker’s Adult Lounge\, 6417 Mt. Baker Hwy\, Deming\, 98244\, United States
END:VEVENT
BEGIN:VEVENT
DTSTART;TZID=America/Vancouver:20251231T190000
DTEND;TZID=America/Vancouver:20260101T010000
DTSTAMP:20260419T091152
CREATED:20251203T211946Z
LAST-MODIFIED:20251203T211947Z
UID:14907-1767207600-1767229200@blackmountainranch.us
SUMMARY:New Year's Eve at Becker's Lounge
DESCRIPTION:   New Year’s Eve at Becker’s Lounge! +\n\nRing in the New Year with your BMR family and friends at an adult New Year’s Eve party at Becker’s Lounge!\n\nWe’ll have a pool tournament (if there’s enough interest)\, dart games\, and plenty of fun to go around.\n\nThis is a BYOB event with a potluck of appetizers\, so bring your favorite snack to share and help us welcome the New Year together!
URL:https://blackmountainranch.us/event/new-years-eve-at-beckers-lounge/
LOCATION:Becker’s Adult Lounge\, 6417 Mt. Baker Hwy\, Deming\, 98244\, United States
END:VEVENT
BEGIN:VEVENT
DTSTART;TZID=America/Vancouver:20251231T200000
DTEND;TZID=America/Vancouver:20260101T010000
DTSTAMP:20260419T091152
CREATED:20250406T170315Z
LAST-MODIFIED:20250406T170315Z
UID:13716-1767211200-1767229200@blackmountainranch.us
SUMMARY:New Years Dance
DESCRIPTION:Wednesday\, December 31st \nNew Years Dance \n8:00pm – 1:00am \nGym
URL:https://blackmountainranch.us/event/new-years-dance/
LOCATION:WA
END:VEVENT
END:VCALENDAR