BEGIN:VCALENDAR
VERSION:2.0
PRODID:-//Black Mountain Ranch Campground - ECPv6.10.3//NONSGML v1.0//EN
CALSCALE:GREGORIAN
METHOD:PUBLISH
X-WR-CALNAME:Black Mountain Ranch Campground
X-ORIGINAL-URL:https://blackmountainranch.us
X-WR-CALDESC:Events for Black Mountain Ranch Campground
REFRESH-INTERVAL;VALUE=DURATION:PT1H
X-Robots-Tag:noindex
X-PUBLISHED-TTL:PT1H
BEGIN:VTIMEZONE
TZID:America/Vancouver
BEGIN:DAYLIGHT
TZOFFSETFROM:-0800
TZOFFSETTO:-0700
TZNAME:PDT
DTSTART:20260308T100000
END:DAYLIGHT
BEGIN:STANDARD
TZOFFSETFROM:-0700
TZOFFSETTO:-0800
TZNAME:PST
DTSTART:20261101T090000
END:STANDARD
END:VTIMEZONE
BEGIN:VEVENT
DTSTART;TZID=America/Vancouver:20260207T110000
DTEND;TZID=America/Vancouver:20260207T180000
DTSTAMP:20260421T045352
CREATED:20260112T204612Z
LAST-MODIFIED:20260112T204612Z
UID:14951-1770462000-1770487200@blackmountainranch.us
SUMMARY:School Of Rock Cornhole Tournament
DESCRIPTION:School of rock is holding a cornhole tournament. \nFebruary 7th \n11:00 AM – 6:00PM \n 
URL:https://blackmountainranch.us/event/school-of-rock-cornhole-tournament/
LOCATION:Rec Center\, 6417 Mt. Baker Hwy\, Deming\, WA\, 98244\, United States
END:VEVENT
BEGIN:VEVENT
DTSTART;TZID=America/Vancouver:20260225T080000
DTEND;TZID=America/Vancouver:20260225T170000
DTSTAMP:20260421T045352
CREATED:20250405T232613Z
LAST-MODIFIED:20250405T232613Z
UID:13642-1772006400-1772038800@blackmountainranch.us
SUMMARY:Electrical Meter Reads
DESCRIPTION:
URL:https://blackmountainranch.us/event/electrical-meter-reads-6/
LOCATION:WA
END:VEVENT
END:VCALENDAR